BEGIN:VCALENDAR
VERSION:2.0
PRODID:-//eventon.com NONSGML v1.0//EN
CALSCALE:GREGORIAN
METHOD:PUBLISH
BEGIN:VEVENT
UID:69e8a3d2f0e0d
DTSTAMP:20260422T103250Z
DTSTART:20260530T130000Z
DTEND:20260531T160000Z
LOCATION:Haus am Geismarer Tor Geismarer Str. 3\,  35066 Frankenberg (Eder)
SUMMARY:Rom-Sehnsucht nach Italien
DESCRIPTION:Veduten von Piranesi aus dem 18. Jahrhundert versus historische
  Fotografie des 19. Jahrhunderts\nhttps://frankenberg.live/events/rom-sehns
 ucht-nach-italien-4/var/ri-3.l-L1
URL:https://frankenberg.live/events/rom-sehnsucht-nach-italien-4/var/ri-3.l-L1
END:VEVENT
END:VCALENDAR