BEGIN:VCALENDAR
VERSION:2.0
PRODID:-//eventon.com NONSGML v1.0//EN
CALSCALE:GREGORIAN
METHOD:PUBLISH
BEGIN:VEVENT
UID:69e4e032dcee7
DTSTAMP:20260419T140122Z
DTSTART:20260425T130000Z
DTEND:20260426T160000Z
LOCATION:Haus am Geismarer Tor Geismarer Str. 3\,  35066 Frankenberg (Eder)
SUMMARY:Rom-Sehnsucht nach Italien
DESCRIPTION:Veduten von Piranesi aus dem 18. Jahrhundert versus historische
  Fotografie des 19. Jahrhunderts\nhttps://frankenberg.live/events/rom-sehns
 ucht-nach-italien-2/
URL:https://frankenberg.live/events/rom-sehnsucht-nach-italien-2/
END:VEVENT
END:VCALENDAR