BEGIN:VCALENDAR
VERSION:2.0
PRODID:-//eventon.com NONSGML v1.0//EN
CALSCALE:GREGORIAN
METHOD:PUBLISH
BEGIN:VEVENT
UID:69e5e47deac82
DTSTAMP:20260420T083157Z
DTSTART:20260321T200000Z
DTEND:20260321T223000Z
LOCATION:Kulturhalle Frankenberg Geismarer Straße 26\,  35066 Frankenberg (Eder)
SUMMARY:Farm der tiere
DESCRIPTION:Die Theater-AG der Edertalschule zeigt an drei Abenden ihr neue
 s Stück "Farm der Tiere" nach Motiven aus dem Roman "Animal Farm" von Geor
 ge Orwell. Pause nach dem ersten Akt gegen ca. 21 Uhr Nach der 2. Aufführu
 ng am Freitag (20.03.) ist ein Publikumsgespräch geplant\,  zu dem wir her
 zlich einladen. Karten[..]\nhttps://frankenberg.live/events/farm-der-tiere-
 3/
URL:https://frankenberg.live/events/farm-der-tiere-3/
END:VEVENT
END:VCALENDAR