BEGIN:VCALENDAR
VERSION:2.0
PRODID:-//eventon.com NONSGML v1.0//EN
CALSCALE:GREGORIAN
METHOD:PUBLISH
BEGIN:VEVENT
UID:69e8d8b5967a8
DTSTAMP:20260422T141829Z
DTSTART:20260510T140000Z
DTEND:20260510T170000Z
LOCATION:Brettspieltreff-FKB und Freie ev. Gemeinde Burgwald Bottendorfer Straße 13
SUMMARY:Offener Brettspieltreff
DESCRIPTION:Spieletreff für Familien mit Kindern ab 6 Jahren\,  für Brett
 spielfreunde und alle\,  die gerne in geselliger Runde moderne Brett-\,  Ka
 rten- und Würfelspiele erleben möchten. Wir laden herzlich dazu ein\,  in
  entspannter Atmosphäre verschiedenste Gesellschaftsspiele auszuprobieren 
 und gemeinsam zu spielen. Die Teilnahme ist kostenfrei und Spieleerklärer 
 sind vor Ort.\nhttps://frankenberg.live/events/brettspiele-abend/
URL:https://frankenberg.live/events/brettspiele-abend/
END:VEVENT
END:VCALENDAR