BEGIN:VCALENDAR
VERSION:2.0
PRODID:-//eventon.com NONSGML v1.0//EN
CALSCALE:GREGORIAN
METHOD:PUBLISH
BEGIN:VEVENT
UID:69eb3a95d0514
DTSTAMP:20260424T094037Z
DTSTART:20260501T090000Z
DTEND:20260501T150000Z
LOCATION:Festplatz Wehrweide Kleine Wehrweide 1D\,  35066 Frankenberg (Eder)
SUMMARY:8. Oldtimertreffen
DESCRIPTION:8. Markenoffenens Oldtimertreffen. Seit dem Jahr 2018 findet je
 weils am 01.05. dieses Treffen statt. 500-800 Teilnehmer finden jedes Jahr 
 den weg in die Philipp-Soldan-Stadt um sich mit Gleichgesinnten und Interes
 sierten auszutauschen. Für das leibliche Wohl ist gesorgt. Eine Anmeldung 
 ist nicht erforderlich.\nhttps://frankenberg.live/events/8-oldtimertreffen/
URL:https://frankenberg.live/events/8-oldtimertreffen/
END:VEVENT
END:VCALENDAR