BEGIN:VCALENDAR
VERSION:2.0
PRODID:-//eventon.com NONSGML v1.0//EN
CALSCALE:GREGORIAN
METHOD:PUBLISH
BEGIN:VEVENT
UID:69e5e597b6d56
DTSTAMP:20260420T083639Z
DTSTART:20260120T170000Z
DTEND:20260120T173000Z
LOCATION:Autohaus Behlen Siegener Straße 25
SUMMARY:Gutenachtgeschichten mit den Vorleseomas
DESCRIPTION:Jeweils dienstags von 17 bis 17.30 Uhr Für Kinder von 3 bis 6 
 Jahren mit Kuscheltier\,  Geschwistern\,  Freunden und Familie. 21.10.25 DR
 K Familienzentrum\,  Brüder Grimm Allee 1 04.11.25 THW\,  Auestraße 25 18
 .11.25 Annette's Lädchen\,  Bahnhofstraße 24 02.12.25 Leder Himmel\,  Neu
 städter Str. 47 16.12.25 Stadtbücherei Steinhaus\,  Pferdemarkt 20 06.01.
 26 Museum im[..]\nhttps://frankenberg.live/events/gutenachtgeschichten-mit-
 den-vorleseomas-2001/
URL:https://frankenberg.live/events/gutenachtgeschichten-mit-den-vorleseomas-2001/
END:VEVENT
END:VCALENDAR