BEGIN:VCALENDAR
VERSION:2.0
PRODID:-//eventon.com NONSGML v1.0//EN
CALSCALE:GREGORIAN
METHOD:PUBLISH
BEGIN:VEVENT
UID:69e5e3d445633
DTSTAMP:20260420T082908Z
DTSTART:20250923T090000Z
DTEND:20250923T225900Z
LOCATION:Kirche Wiesenfeld Johanniterstraße\,  35099 Burgwald
SUMMARY:Wanderung
DESCRIPTION:Zu Fuß oder mit dem Rad geht es auf dem Burgwaldpfad von Wiese
 nfeld nach Frankenberg – ein Teilstück des europäischen Kulturwegs „H
 ugenotten- und Waldenserpfad“. Unterwegs lernen Sie Wiesenfeld als histor
 ische Station dieses Weges kennen. Ziel ist das Kloster St. Georgenberg mit
  der Mauritiuskapelle\,  die im ausgehenden 17. Jahrhundert den Hugenotten[
 ..]\nhttps://frankenberg.live/events/wanderung-2/
URL:https://frankenberg.live/events/wanderung-2/
END:VEVENT
END:VCALENDAR