BEGIN:VCALENDAR
VERSION:2.0
PRODID:-//eventon.com NONSGML v1.0//EN
CALSCALE:GREGORIAN
METHOD:PUBLISH
BEGIN:VEVENT
UID:69e5de95c6afa
DTSTAMP:20260420T080645Z
DTSTART:20251015T143000Z
DTEND:20251015T225900Z
LOCATION:Gemeindehaus an der Liebfrauenkirche Auf der Burg 11\,  35066 Frankenberg
SUMMARY:Kinderbibelwoche
DESCRIPTION:Liebe Kinder\, wir laden euch herzlich zur diesjährigen Kinder
 bibelwoche ein.Von Mittwoch bis Freitag (15.10. - 17.10.) treffen wir uns j
 eweils von 15.30 - 18.00Uhr in der Liebfrauenkirche und dem neuen Gemeindeh
 aus. Dort tauchen wir inGeschichten ein und starten unser gemeinsames Progr
 amm mit tollen Bastelideen\, spannenden Spielen und leckerem Essen.Für Sam
 stag\,  18.10. planen[..]\nhttps://frankenberg.live/events/kinderbibelwoche
 /
URL:https://frankenberg.live/events/kinderbibelwoche/
END:VEVENT
END:VCALENDAR