BEGIN:VCALENDAR
VERSION:2.0
PRODID:-//eventon.com NONSGML v1.0//EN
CALSCALE:GREGORIAN
METHOD:PUBLISH
BEGIN:VEVENT
UID:69e5e205daf8e
DTSTAMP:20260420T082125Z
DTSTART:20250816T140000Z
DTEND:20250816T160000Z
LOCATION:Haus am Geismarer Tor Geismarer Str. 3\,  35066 Frankenberg (Eder)
SUMMARY:Eröffnung
DESCRIPTION:Elf Künstlerinnen und Künstler zeigen Bilder und Skulpturen z
 u vertrauten\,  fast vergessenen und verschwundenen Orten der Stadt. Ihre W
 erke greifen Erinnerungen auf\,  machen Veränderungen sichtbar und eröffn
 en neue Blicke auf Frankenberg. Begrüßung: Barbara Eckes\,  Bürgermeiste
 rinEinführung: Anne-Kathrin Auel\,  Kunstwissenschaftlerinmit Werken von: 
 Alexander Helm\,  Wolfgang Harm\,  Gesa Müller\,  Marlit Peikert\,  Sabine
  Reyer\, [..]\nhttps://frankenberg.live/events/eroeffnung/
URL:https://frankenberg.live/events/eroeffnung/
END:VEVENT
END:VCALENDAR