BEGIN:VCALENDAR
VERSION:2.0
PRODID:-//eventon.com NONSGML v1.0//EN
CALSCALE:GREGORIAN
METHOD:PUBLISH
BEGIN:VEVENT
UID:69eb26044c13e
DTSTAMP:20260424T081252Z
DTSTART:20250707T090000Z
DTEND:20250707T225900Z
LOCATION:
SUMMARY:Ferienspaß
DESCRIPTION:Kreativtag Montag\,  07.07. von 10.00 - 12.00 Uhr Gemeindehaus 
 an der Liebfrauenkirche - Kosten 3€ Zeitreise und Pizza backen im Backhau
 s Dienstag\,  08.07. von 10.00 - 14.00 Uhr Laisa - Kosten 5€ Zu Besuch be
 i den Alpakas Mittwoch\,  09.07. von 15.00 - 18.00 Uhr Willersdorf - Kosten
  10 € Spiel[..]\nhttps://frankenberg.live/events/ferienspass/
URL:https://frankenberg.live/events/ferienspass/
END:VEVENT
END:VCALENDAR