BEGIN:VCALENDAR
VERSION:2.0
PRODID:-//eventon.com NONSGML v1.0//EN
CALSCALE:GREGORIAN
METHOD:PUBLISH
BEGIN:VEVENT
UID:69e8f73314a99
DTSTAMP:20260422T162835Z
DTSTART:20250619T173000Z
DTEND:20250619T183000Z
LOCATION:Teichgelände
SUMMARY:HNA
DESCRIPTION:Am 19. Juni (Fronleichnam) startet wieder unser HNA Yogasommer 
 in Frankenberg - immer donnerstags von 18.30 bis 19.30 Uhr im Teichgelände
 . Kommt vorbei!\nhttps://frankenberg.live/events/hna/
URL:https://frankenberg.live/events/hna/
END:VEVENT
END:VCALENDAR