BEGIN:VCALENDAR
VERSION:2.0
PRODID:-//eventon.com NONSGML v1.0//EN
CALSCALE:GREGORIAN
METHOD:PUBLISH
BEGIN:VEVENT
UID:69e5e597752a1
DTSTAMP:20260420T083639Z
DTSTART:20250609T150000Z
DTEND:20250609T225900Z
LOCATION:Kirche Mariae Himmelfahrt Wilhelm-Brühl-Weg 13\,  35066 Frankenberg (Eder)
SUMMARY:Ein Konzert...
DESCRIPTION:Konzert der beiden Chöre Cantabile und T(H)erzsprung unter der
  Leitung von Karl-Heinz Wenzel. Eintritt frei.\nhttps://frankenberg.live/ev
 ents/ein-konzert/
URL:https://frankenberg.live/events/ein-konzert/
END:VEVENT
END:VCALENDAR