BEGIN:VCALENDAR
VERSION:2.0
PRODID:-//eventon.com NONSGML v1.0//EN
CALSCALE:GREGORIAN
METHOD:PUBLISH
BEGIN:VEVENT
UID:69e5e34a64b73
DTSTAMP:20260420T082650Z
DTSTART:20251229
DTEND:20251230
LOCATION:Haus des Gastes Schreufa Viermündener Str. 25\,  35066 Frankenberg(Eder)-Schreufa
SUMMARY:Winterwanderung
DESCRIPTION:\nhttps://frankenberg.live/events/winterwanderung/
URL:https://frankenberg.live/events/winterwanderung/
END:VEVENT
END:VCALENDAR